BEGIN:VCALENDAR
VERSION:2.0
PRODID:-//ARC Tas - ECPv5.4.0//NONSGML v1.0//EN
CALSCALE:GREGORIAN
METHOD:PUBLISH
X-WR-CALNAME:ARC Tas
X-ORIGINAL-URL:http://arctas.org.au
X-WR-CALDESC:Events for ARC Tas
BEGIN:VTIMEZONE
TZID:UTC
BEGIN:STANDARD
TZOFFSETFROM:+0000
TZOFFSETTO:+0000
TZNAME:UTC
DTSTART:20180101T000000
END:STANDARD
END:VTIMEZONE
BEGIN:VEVENT
DTSTART;TZID=UTC:20180825T080000
DTEND;TZID=UTC:20180826T170000
DTSTAMP:20210226T153503
CREATED:20180222T013720Z
LAST-MODIFIED:20180222T014656Z
UID:266-1535184000-1535302800@arctas.org.au
SUMMARY:Advanced Life Support 2 - August 2018
DESCRIPTION:This is a two-day course with the focus on developing advanced skills in managing deteriorating patient and cardiac arrest. The course is designed for healthcare professionals who would be expected to apply those skills taught as part of their clinical duties\, or to teach them on a regular basis. \nAppropriate participants include paramedics\, doctors and nurses working in critical care areas (e.g. ED\, CCU\, ICU\, HDU\, acute admissions units) or in the resuscitation /medical emergency team. \nBoth advanced life support courses are widely accepted by government and private hospitals\, healthcare organisations\, Australian Defence Force\, rural and remote health including the resource industry. \nCOURSE OBJECTIVES AND OUTCOMES\n\nUnderstand the causes of cardiorespiratory arrest in adults\nIdentify patients at risk of cardiorespiratory arrest\nIdentify and treat acute coronary syndromes\nPractice and demonstrate the techniques for airway management in a simulated environment\nIdentify the main cardiac rhythms associated with cardiac arrest\nIdentify the indications for defibrillation and demonstrate safe defibrillation in a simulated environment\nUse various emergency drugs in the appropriate clinical settings\nPractice and demonstrate transcutaneous cardiac pacing in a simulated environment
URL:http://arctas.org.au/courses/advanced-life-support-2-august-2018/
LOCATION:General Practice Training Tasmania\, Level 3\, 179 Murray Street\, Hobart\, Tasmania\, 7000\, Australia
CATEGORIES:Courses
END:VEVENT
END:VCALENDAR